BEGIN:VCALENDAR
PRODID:NingEventWidget-v1
VERSION:2.0
METHOD:PUBLISH
BEGIN:VEVENT
UID:2323372:Event:171550
DTSTAMP:20260423T044307Z
SUMMARY:A little fun circuit for the day
DESCRIPTION:Learn a range of gentle exercises.\nBuild strength in your
  arms, shoulders and legs, using items in your home. Can be done seate
 d or standing.\nTaught by a newly qualified instructor (level two comm
 unity activator in health & exercise). Open to any adult to attend via
  Zoom. Join in one or both sessions. No experience required. Suitable 
 for beginners.\n\nDates: 2nd January  Time: 3-4pm\n\nZoom Meeting htt
 ps://us02web.zoom.us/j/82548827771?pwd=dnRXNXFoSHdYM0NlczNaK3hEbXBDdz0
 9  Meeting ID: 825 4882 7771 Passcode: move\n\nAny questions email: Ci
 tyCarersCommunity@gmail.com\n\nFor more information visit http://golde
 nlaneestate.org/events/a-little-fun-circuit-for-the-day-1
DTSTART:20230102T150000Z
DTEND:20230102T160000Z
CATEGORIES:online, community, zoom, exercise
LOCATION:Via Zoom
WEBSITE:
URL:
CONTACT:
ORGANIZER;CN=Shirley:http://goldenlaneestate.org/profile/Shirley
ATTACH;FMTTYPE="image/jpeg":
ATTENDEE;ROLE=REQ-PARTICIPANT;PARTSTAT=ACCEPTED;RSVP=TRUE;CN=Shirley:h
 ttp://goldenlaneestate.org/profile/Shirley
END:VEVENT
END:VCALENDAR
