BEGIN:VCALENDAR
PRODID:NingEventWidget-v1
VERSION:2.0
METHOD:PUBLISH
BEGIN:VEVENT
UID:2323372:Event:168797
DTSTAMP:20260420T143625Z
SUMMARY:An Ayah's Choice - author talk
DESCRIPTION:Join us for a panel discussion headed by Shahida Rahman, a
 uthor of the upcoming historical fiction novel, An Ayah's Choice, whic
 h centres themes of women's independence, British-Indian history, and 
 artistic passion against a backdrop of the women's suffragist movement
 '.\nMore information and booking here:\nhttps://www.eventbrite.co.uk/e
 /272634425907\n\nFor more information visit http://goldenlaneestate.or
 g/events/an-ayah-s-choice-author-talk
DTSTART:20220324T180000Z
DTEND:20220324T190000Z
CATEGORIES:author, talk, free
LOCATION:Barbican Library, Barbican Centre.
WEBSITE:
URL:
CONTACT:
ORGANIZER;CN="Helen Tremaine":http://goldenlaneestate.org/profile/Hele
 nTremaine
ATTACH;FMTTYPE="image/jpeg":https://storage.ning.com/topology/rest/1.0
 /file/get/10179901293?profile=original
ATTENDEE;ROLE=REQ-PARTICIPANT;PARTSTAT=ACCEPTED;RSVP=TRUE;CN="Helen Tr
 emaine":http://goldenlaneestate.org/profile/HelenTremaine
END:VEVENT
END:VCALENDAR
