BEGIN:VCALENDAR
PRODID:NingEventWidget-v1
VERSION:2.0
METHOD:PUBLISH
BEGIN:VEVENT
UID:2323372:Event:70170
DTSTAMP:20260420T103351Z
SUMMARY:Annual Ward Meeting - Cripplegate
DESCRIPTION:An oppprtunity for the ward electorate to raise any questi
 ons with their elected representatives for the Ward.\r\n\r\nThe meetin
 g is conducted with an element of City tradition in the way that it is
  ceremonially opened and closed and there are a couple of brief formal
  items relating to the appointment of Ward officers.\r\n\r\nMembers of
  Cripplegate:\r\nAlderman David Graves, Common Councilmen Deputy David
  Bradshaw, Deputy John Tomlinson, Mark Bostock, Mary Durcan, Vivienne 
 Littlechild, Susan Pearson, William Pimlott and Stephen Quilter\n\nFor
  more information visit http://goldenlaneestate.org/events/annual-ward
 -meeting-cripplegate
DTSTART:20190320T190000Z
DTEND:20190320T210000Z
CATEGORIES:meeting
LOCATION:Barber-Surgeons Hall
WEBSITE:
URL:
CONTACT:
ORGANIZER:
ATTACH;FMTTYPE="image/jpeg":
ATTENDEE;ROLE=REQ-PARTICIPANT;PARTSTAT=ACCEPTED;RSVP=TRUE;CN="GLE Webs
 ite Comms Team":http://goldenlaneestate.org/profile/GLEComms
END:VEVENT
END:VCALENDAR
