BEGIN:VCALENDAR
PRODID:NingEventWidget-v1
VERSION:2.0
METHOD:PUBLISH
BEGIN:VEVENT
UID:2323372:Event:44786
DTSTAMP:20260420T021417Z
SUMMARY:Another chance for a free health check-up
DESCRIPTION:Free NHS health checks for City of London Residents: inclu
 des BMI, diabetes, cholesterol, blood pressure - get a health tune-up 
 this spring and receive a free pedometer\nNo need to book, just drop i
 n\n\nFor more information visit http://goldenlaneestate.org/events/ano
 ther-chance-for-a-free-health-check-up
DTSTART:20150321T100000Z
DTEND:20150321T160000Z
CATEGORIES:heatlhy, living
LOCATION:Barbican Library
WEBSITE:http://www.cityoflondon.gov.uk/libraries
URL:http://www.cityoflondon.gov.uk/libraries
CONTACT:02076380569
ORGANIZER;CN="Geraldine Pote":http://goldenlaneestate.org/profile/Gera
 ldinePote
ATTACH;FMTTYPE="image/jpeg":
ATTENDEE;ROLE=REQ-PARTICIPANT;PARTSTAT=ACCEPTED;RSVP=TRUE;CN="Geraldin
 e Pote":http://goldenlaneestate.org/profile/GeraldinePote
END:VEVENT
END:VCALENDAR
