BEGIN:VCALENDAR
PRODID:NingEventWidget-v1
VERSION:2.0
METHOD:PUBLISH
BEGIN:VEVENT
UID:2323372:Event:72034
DTSTAMP:20260421T022034Z
SUMMARY:Architecture Tour
DESCRIPTION:Join one of our expert guides to explore the many architec
 tural surprises at the Charterhouse. From medieval monastery to Tudor 
 mansion, postwar renovation to invigorating 21st century adaptation of
  the Charterhouse buildings and open spaces. Every element of these hi
 storic buildings breathes a story about the visionaries who have contr
 ibuted to this remarkable estate.\n\nFor more information visit http:/
 /goldenlaneestate.org/events/architecture-tour
DTSTART:20190911T093000Z
DTEND:20190911T110000Z
CATEGORIES:tour
LOCATION:The Charterhouse
WEBSITE:http://www.thecharterhouse.org/visit-us/whats-on/
URL:http://www.thecharterhouse.org/visit-us/whats-on/
CONTACT:02038188873
ORGANIZER;CN="Charlotte Borger":http://goldenlaneestate.org/profile/Ch
 arlotteBorger
ATTACH;FMTTYPE="image/jpeg":https://storage.ning.com/topology/rest/1.0
 /file/get/3335481545?profile=original
ATTENDEE;ROLE=REQ-PARTICIPANT;PARTSTAT=ACCEPTED;RSVP=TRUE;CN="Charlott
 e Borger":http://goldenlaneestate.org/profile/CharlotteBorger
END:VEVENT
END:VCALENDAR
