BEGIN:VCALENDAR
PRODID:NingEventWidget-v1
VERSION:2.0
METHOD:PUBLISH
BEGIN:VEVENT
UID:2323372:Event:112937
DTSTAMP:20260420T115559Z
SUMMARY:Barbican and Golden Lane Conservation Area
DESCRIPTION:\r\nOur resident Councillor, Sue Pearson and GLERA are inv
 iting residents to a zoom meeting on Thursday 3 December to discuss t
 he draft Barbican and Golden Lane Conservation Area Supplementary Plan
 ning Document which will be presented to the Planning and Transportati
 on committee for approval in February next year.\r\nA conservation are
 a is an area of special architectural or historic interest, the charac
 ter or appearance of which it is desirable to preserve or enhance. Thi
 s means that when a conservation area is designated, the Council has r
 ecognised that the area has a special character and identity which is 
 worth protecting. This is on top of the protection our estate has by i
 ts listing. The proposal does not include the Welsh Church or other bu
 ildings between the Barbican and Golden Lane which you may like to dis
 cuss.\r\nYou can read the draft document here\r\n\r\nSupported by GLER
 A (Golden Lane Residents' Association)\r\n\n\nFor more information vis
 it http://goldenlaneestate.org/events/barbican-and-golden-lane-conserv
 ation-area
DTSTART:20201203T190000Z
DTEND:20201203T200000Z
CATEGORIES:meeting
LOCATION:Zoom
WEBSITE:
URL:
CONTACT:
ORGANIZER:
ATTACH;FMTTYPE="image/jpeg":
ATTENDEE;ROLE=REQ-PARTICIPANT;PARTSTAT=ACCEPTED;RSVP=TRUE;CN="GLE Webs
 ite Comms Team":http://goldenlaneestate.org/profile/GLEComms
END:VEVENT
END:VCALENDAR
