BEGIN:VCALENDAR
PRODID:NingEventWidget-v1
VERSION:2.0
METHOD:PUBLISH
BEGIN:VEVENT
UID:2323372:Event:63891
DTSTAMP:20260423T204449Z
SUMMARY:Barbican OpenFest - TUNNEL VISIONS: Array
DESCRIPTION:As part of the Barbican OpenFest Beech Street will be clos
 ed for a major audio visual installation - TUNNEL VISIONS: Array.\r\nI
 t's a free event but time slots need to be booked through the Barbican
  Box Office.\r\nAccess to residents will be maintained throughout as r
 equired.\r\nRead more information about the event, road closure plans 
 (Wednesday through Monday), alternative routes during the installatio
 n etc\r\n\r\n\n\nFor more information visit http://goldenlaneestate.or
 g/events/barbican-openfest-tunnel-visions-array
DTSTART:20180317T000000Z
DTEND:20180318T235900Z
CATEGORIES:installation
LOCATION:Beech Street
WEBSITE:
URL:
CONTACT:
ORGANIZER:
ATTACH;FMTTYPE="image/jpeg":http://storage.ning.com/topology/rest/1.0/
 file/get/2571586538?profile=original
ATTENDEE;ROLE=REQ-PARTICIPANT;PARTSTAT=ACCEPTED;RSVP=TRUE;CN="GLE Webs
 ite Comms Team":http://goldenlaneestate.org/profile/GLEComms
END:VEVENT
END:VCALENDAR
