BEGIN:VCALENDAR
PRODID:NingEventWidget-v1
VERSION:2.0
METHOD:PUBLISH
BEGIN:VEVENT
UID:2323372:Event:64352
DTSTAMP:20260419T224055Z
SUMMARY:Bernard Morgan House: Construction Liaison Group Meeting - Apr
 il
DESCRIPTION:The next Bernard Morgan House Construction Liaison Group m
 eeting is at 18:30 on Monday 30 April 2018 in the residents' room a
 t Tudor Rose Court, 35 Fann Street, EC2Y 8DY. Signage will be in pla
 ce to show you where to go. If you are running late please call the Fr
 eephone number for access to the building.   The meeting will be a ch
 ance to meet with the team and get an update on the latest works on si
 te. Information on the Construction Management Plan will be available
  to view and you will be able to ask any questions you have to members
  of the project team from McAleer & Rushe and Taylor Wimpey Central Lo
 ndon.   If you would like to attend the meeting please RSVP to const
 ruction@cascadepr.co.uk or call the Freephone number 08081 686 677.\
 r\nYou can sign up to weekly updates and find more info here.\r\nPrev
 ious meeting summaries and monthly newsletters can be found here.\n\nF
 or more information visit http://goldenlaneestate.org/events/bernard-m
 organ-house-liaison-mtg-april
DTSTART:20180430T173000Z
DTEND:20180430T183000Z
CATEGORIES:community, liaison, meeting
LOCATION:Tudor Rose Court
WEBSITE:
URL:
CONTACT:
ORGANIZER:
ATTACH;FMTTYPE="image/jpeg":http://storage.ning.com/topology/rest/1.0/
 file/get/2571586357?profile=original
ATTENDEE;ROLE=REQ-PARTICIPANT;PARTSTAT=ACCEPTED;RSVP=TRUE;CN="GLE Webs
 ite Comms Team":http://goldenlaneestate.org/profile/GLEComms
END:VEVENT
END:VCALENDAR
