BEGIN:VCALENDAR
PRODID:NingEventWidget-v1
VERSION:2.0
METHOD:PUBLISH
BEGIN:VEVENT
UID:2323372:Event:5345
DTSTAMP:20260423T140433Z
SUMMARY:BIBLIOLOGY Opening. All Golden Lane Estate and Barbican reside
 nts welcome.
DESCRIPTION:The third exhibition as part of EXHIBIT's Super Estate Pro
 jects is this series of photographs by British artist, Kathryn Faulkne
 r. During her residency at the gallery, Faulkner visited residents of 
 the Golden Lane Estate (the focus of the gallery), observing how they 
 live with books and looking at the \"intimate scale of the living spac
 es\". Through conversations with her subjects about individual experie
 nces, the aim is to \"capture moments that represent personal relation
 ships with reading and with the book as object.\"\n\nThe images (which
  look at the impusle to collect books) are shot on medium format film 
 and traditionally hand printed full frame, a methodology in keeping wi
 th Modernism’s ‘truth to materials’ ethos. Some of the most beau
 tiful pictures are a series of colour pinhole photographs of residents
  reading in their favorite spot, projected in the enclosed space downs
 tairs.\n\nFor more information visit http://goldenlaneestate.org/event
 s/bibliology-opening-all-golden
DTSTART:20100225T183000Z
DTEND:20100225T203000Z
CATEGORIES:private, view
LOCATION:EXHIBIT Gallery
WEBSITE:http://www.exhibit-goldenlane.com
URL:http://www.exhibit-goldenlane.com
CONTACT:
ORGANIZER;CN="EXHIBIT Gallery":http://goldenlaneestate.org/profile/EXH
 IBITatgoldenlaneestate
ATTACH;FMTTYPE="image/jpeg":http://storage.ning.com/topology/rest/1.0/
 file/get/2571568491?profile=original
ATTENDEE;ROLE=REQ-PARTICIPANT;PARTSTAT=ACCEPTED;RSVP=TRUE;CN="EXHIBIT 
 Gallery":http://goldenlaneestate.org/profile/EXHIBITatgoldenlaneestate
END:VEVENT
END:VCALENDAR
