BEGIN:VCALENDAR
PRODID:NingEventWidget-v1
VERSION:2.0
METHOD:PUBLISH
BEGIN:VEVENT
UID:2323372:Event:179500
DTSTAMP:20260425T234830Z
SUMMARY:Carers Rights Day Event - St Giles Church 10-2pm
DESCRIPTION:Open to all residents. Carers Rights day is a national day
  every November, to hightlight the support and rights residents who ha
 ve caring responsbiitles have.  Two bits - 20/11 in person event organ
 ised by Imago. 23/11 Online - Carer Rights day session with us.  Time:
  10-2pm Location: St Giles church Who it's for: Any City residents, br
 ing friends and neighbours. Temperature: Wrap up warm in the Church  S
 chedule: 10am Welcome from Councillor Anne Corbett (Carer Champion). +
  Tea coffee 11am Talk from Pohwer https://www.pohwer.net/london. Commi
 ssioned Statutory advocacy service.  11-2pm - 15 minutes free massages
 , book with Imago staff member 12-1pm it’s a light cold buffet with 
 sandwiches/fruit. Tea and coffee 2pm Close  Stalls: Healthwatch City o
 f London Compassionate Neighbours  Police & Nurses (City mental health
  triage team within City police) Shoreditch Trust UBX City Boxing Gym 
 Tempo Time Credits Age Uk East LOndon (This might be City Connections)
  City Advice City Carers Community Gloji Stop Smoking City Cleaners A 
 paid home care workers Agency (?) Someone from Shoreditch Surgery bloo
 d pressure check (?) City Recycling\nthe event had not been shares in 
 the estate by the commissioned Servce Imago. We are stepping in to sha
 re what we found out yesterday.\n\nFor more information visit http://g
 oldenlaneestate.org/events/carers-rights-day-event-st-giles-church-10-
 2pm
DTSTART:20251120T100000Z
DTEND:20251120T140000Z
CATEGORIES:community
LOCATION:St Giles Church
WEBSITE:
URL:
CONTACT:
ORGANIZER:Imago service. (Shared by City Carers Community)
ATTACH;FMTTYPE="image/jpeg":https://storage.ning.com/topology/rest/1.0
 /file/get/30998553500?profile=original
ATTENDEE;ROLE=REQ-PARTICIPANT;PARTSTAT=ACCEPTED;RSVP=TRUE;CN=Shirley:h
 ttp://goldenlaneestate.org/profile/Shirley
END:VEVENT
END:VCALENDAR
