BEGIN:VCALENDAR
PRODID:NingEventWidget-v1
VERSION:2.0
METHOD:PUBLISH
BEGIN:VEVENT
UID:2323372:Event:75453
DTSTAMP:20260419T170513Z
SUMMARY:Carers‘ week, 8th - 14th June. Free to join events
DESCRIPTION:Making Caring Visible\nTo mark Carers week (8 - 14 June), 
 an unpaid carer from the City of London has pulled together a timetabl
 e of many activities being offered by charities and organisations both
  locally and nationally. All are free to join, if you have access to t
 he internet (there are a few by telephone).\nThis year's theme for Car
 ers week is 'Making caring visible'\nThere are many City residents loo
 king after a friend or loved one who may have a physical or mental imp
 airment, or just someone who needs additional support.  \nThis year, 
 Carers Week is more important than ever. Since the start of the Covid-
 19 crisis, many carers are taking on extended care without the regular
  support or respite they need.\nPlease see attached the timetable. (wh
 ich healthwatch city of london have kindly posted on thier website too
 ) \n\n\n\n\nhttps://www.healthwatchcityoflondon.org.uk/news/2020-06-0
 5/carers-week-free-attend-events\n\n\n\n\n\n\n\n\nFor more information
  visit http://goldenlaneestate.org/events/carers-week-8th-14th-june-fr
 ee-to-jjoin-events
DTSTART:20200607T230000Z
DTEND:20200614T110000Z
CATEGORIES:community, event
LOCATION:Online/phone events
WEBSITE:https://www.healthwatchcityoflondon.org.uk/news/2020-06-05/car
 ers-week-free-attend-events
URL:https://www.healthwatchcityoflondon.org.uk/news/2020-06-05/carers-
 week-free-attend-events
CONTACT:
ORGANIZER:
ATTACH;FMTTYPE="image/jpeg":
ATTENDEE;ROLE=REQ-PARTICIPANT;PARTSTAT=ACCEPTED;RSVP=TRUE;CN="Jane Car
 r":http://goldenlaneestate.org/profile/JaneCarr
END:VEVENT
END:VCALENDAR
