BEGIN:VCALENDAR
PRODID:NingEventWidget-v1
VERSION:2.0
METHOD:PUBLISH
BEGIN:VEVENT
UID:2323372:Event:43755
DTSTAMP:20260420T002226Z
SUMMARY:Changing your mindset is the key to your success
DESCRIPTION:Beverly Bramwell will be explaining how you develop your m
 indset from a young age and how this may help or hinder you.  She wil
 l help you discover how to make simple changes to improve your chances
  of success.\n\nFree.  Booking advised in case of change to programme
 .\n\nFor more information visit http://goldenlaneestate.org/events/cha
 nging-your-mindset-is-the-key-to-your-success
DTSTART:20150326T123000Z
DTEND:20150326T133000Z
CATEGORIES:inspirational, talk
LOCATION:Barbican Library, Barbican Centre
WEBSITE:
URL:
CONTACT:02076380569
ORGANIZER;CN="Geraldine Pote":http://goldenlaneestate.org/profile/Gera
 ldinePote
ATTACH;FMTTYPE="image/jpeg":http://storage.ning.com/topology/rest/1.0/
 file/get/2571575714?profile=original
ATTENDEE;ROLE=REQ-PARTICIPANT;PARTSTAT=ACCEPTED;RSVP=TRUE;CN="Geraldin
 e Pote":http://goldenlaneestate.org/profile/GeraldinePote
END:VEVENT
END:VCALENDAR
