BEGIN:VCALENDAR
PRODID:NingEventWidget-v1
VERSION:2.0
METHOD:PUBLISH
BEGIN:VEVENT
UID:2323372:Event:166643
DTSTAMP:20260420T100323Z
SUMMARY:City Carers Community Share and Learn sessions
DESCRIPTION:Monday 5th & 19th July, 11.15am / 8pm (45 minutes)\n \nYo
 u are welcome to join in and learn tips from city residents who are lo
 oking after a family member, friend or neighbour. Topics may be how to
  navigate the NHS/Social systems etc. Open to anyone who is looking af
 ter someone in the City of London. A friendly group, run by residents 
 voluntarily. For the zoom link email:CityCarersCommunity@gmail.com\n\n
 For more information visit http://goldenlaneestate.org/events/city-car
 ers-community-share-and-learn-sessions
DTSTART:20210705T101500Z
DTEND:20210718T230000Z
CATEGORIES:community, free
LOCATION:Via Zoom
WEBSITE:
URL:
CONTACT:
ORGANIZER:
ATTACH;FMTTYPE="image/jpeg":
ATTENDEE;ROLE=REQ-PARTICIPANT;PARTSTAT=ACCEPTED;RSVP=TRUE;CN=Shirley:h
 ttp://goldenlaneestate.org/profile/Shirley
END:VEVENT
END:VCALENDAR
