BEGIN:VCALENDAR
PRODID:NingEventWidget-v1
VERSION:2.0
METHOD:PUBLISH
BEGIN:VEVENT
UID:2323372:Event:39211
DTSTAMP:20260419T221737Z
SUMMARY:City carers’ support group meeting
DESCRIPTION:Invitation To Unpaid, Informal City Carers\nYou are invite
 d to the monthly City carers’ support group meeting at 11am on the s
 econd Tuesday each month.\n\nThe next meeting  will be on:-     
                 \n11th February 2014 – Memory Group 
 for City residents over 50yrs old by Paul Webley\n\nFor more informati
 on visit http://goldenlaneestate.org/events/city-carers-support-group-
 meeting
DTSTART:20140211T110000Z
DTEND:20140211T123000Z
CATEGORIES:city, "carers’", support, group, meeting
LOCATION:Tudor Rose Court, 35 Fann Street, Barbican, EC2Y 8DY
WEBSITE:http://www.eldersvoice.org.uk
URL:http://www.eldersvoice.org.uk
CONTACT:020 8206 7511
ORGANIZER;CN="Elaine Fletcher":http://goldenlaneestate.org/profile/Ela
 ineFletcher
ATTACH;FMTTYPE="image/jpeg":
ATTENDEE;ROLE=REQ-PARTICIPANT;PARTSTAT=ACCEPTED;RSVP=TRUE;CN="Elaine F
 letcher":http://goldenlaneestate.org/profile/ElaineFletcher
END:VEVENT
END:VCALENDAR
