BEGIN:VCALENDAR
PRODID:NingEventWidget-v1
VERSION:2.0
METHOD:PUBLISH
BEGIN:VEVENT
UID:2323372:Event:73195
DTSTAMP:20260420T122618Z
SUMMARY:COLPAI Project Drop-In
DESCRIPTION:The next COLPAI Project Drop-In will take place on Thursda
 y 28 November from 6pm-8pm and will take place downstairs in the Golde
 n Lane Community Centre.\r\nThe project team, including the City of Lo
 ndon Corporation and ISG, our appointed contractor, will be on-hand to
  answer any questions you may have.\n\nFor more information visit http
 ://goldenlaneestate.org/events/colpai-project-drop-in-2
DTSTART:20191128T180000Z
DTEND:20191128T200000Z
CATEGORIES:meeting
LOCATION:Golden Lane Community Centre
WEBSITE:
URL:
CONTACT:
ORGANIZER:Colpai
ATTACH;FMTTYPE="image/jpeg":https://storage.ning.com/topology/rest/1.0
 /file/get/3551530094?profile=original
ATTENDEE;ROLE=REQ-PARTICIPANT;PARTSTAT=ACCEPTED;RSVP=TRUE;CN="GLE Webs
 ite Comms Team":http://goldenlaneestate.org/profile/GLEComms
END:VEVENT
END:VCALENDAR
