BEGIN:VCALENDAR
PRODID:NingEventWidget-v1
VERSION:2.0
METHOD:PUBLISH
BEGIN:VEVENT
UID:2323372:Event:72663
DTSTAMP:20260423T082526Z
SUMMARY:Coming Out of the Black Country
DESCRIPTION:\n Author Stanley Underhill, a resident of the Charterhou
 se, gives an illustrated talk about his recent autobiography Coming Ou
 t of the Black Country.\nThis is a true and inspiring story of about a
  man born in the 1920s into poverty and who, later, discovered himself
  to be a homosexual.\nStanley describes his struggle to educate himsel
 f, and to come to terms with his unwanted sexual orientation. All agai
 nst a background of ignorance, homophobia and condemnation by the Stat
 e and Church, while he also battled with depression.\nCome and listen 
 to Stanley’s story of how, ultimately, he finds his true self.\n \n
 \nFor more information visit http://goldenlaneestate.org/events/coming
 -out-of-the-black-country
DTSTART:20191030T123000Z
DTEND:20191030T133000Z
CATEGORIES:free, just, turn, up
LOCATION:Barbican Library
WEBSITE:
URL:
CONTACT:
ORGANIZER;CN="Helen Tremaine":http://goldenlaneestate.org/profile/Hele
 nTremaine
ATTACH;FMTTYPE="image/jpeg":https://storage.ning.com/topology/rest/1.0
 /file/get/3614283455?profile=original
ATTENDEE;ROLE=REQ-PARTICIPANT;PARTSTAT=ACCEPTED;RSVP=TRUE;CN="Helen Tr
 emaine":http://goldenlaneestate.org/profile/HelenTremaine
END:VEVENT
END:VCALENDAR
