BEGIN:VCALENDAR
PRODID:NingEventWidget-v1
VERSION:2.0
METHOD:PUBLISH
BEGIN:VEVENT
UID:2323372:Event:64086
DTSTAMP:20260423T190607Z
SUMMARY:Community Centre - update meeting
DESCRIPTION:The Community Centre is almost finished!\r\nCome along to 
 hear the latest plans and find out how you can get involved.\r\n\n\nFo
 r more information visit http://goldenlaneestate.org/events/community-
 centre-update-meeting-1
DTSTART:20180316T190000Z
DTEND:20180316T203000Z
CATEGORIES:community, centre
LOCATION:Sir Ralph Perring Centre
WEBSITE:
URL:
CONTACT:
ORGANIZER:
ATTACH;FMTTYPE="image/jpeg":http://storage.ning.com/topology/rest/1.0/
 file/get/2426184773?profile=original
ATTENDEE;ROLE=REQ-PARTICIPANT;PARTSTAT=ACCEPTED;RSVP=TRUE;CN="GLE Webs
 ite Comms Team":http://goldenlaneestate.org/profile/GLEComms
END:VEVENT
END:VCALENDAR
