BEGIN:VCALENDAR
PRODID:NingEventWidget-v1
VERSION:2.0
METHOD:PUBLISH
BEGIN:VEVENT
UID:2323372:Event:52711
DTSTAMP:20260420T001229Z
SUMMARY:Coventry Cathedral - Icon and Inspiration - free talk
DESCRIPTION:The story of the rebuilding of the Cathedral as a symbol o
 f peace and reconciliation and its inspiring commitment to the modern 
 is an extraordinary one.\n \nIn this illustrated talk by\nAlexandra E
 pps experience the work of many of the world-class artists associated 
 with its\ntreasures including Jacob Epstein, Elisabeth Frink, John Pip
 er,Graham Sutherland and more.\n \n\nFor more information visit http:
 //goldenlaneestate.org/events/coventry-cathedral-icon-and-inspiration-
 free-talk
DTSTART:20161025T113000Z
DTEND:20161025T123000Z
CATEGORIES:free, talk
LOCATION:Barbican Library
WEBSITE:
URL:
CONTACT:
ORGANIZER;CN="Helen Tremaine":http://goldenlaneestate.org/profile/Hele
 nTremaine
ATTACH;FMTTYPE="image/jpeg":
ATTENDEE;ROLE=REQ-PARTICIPANT;PARTSTAT=ACCEPTED;RSVP=TRUE;CN="Helen Tr
 emaine":http://goldenlaneestate.org/profile/HelenTremaine
END:VEVENT
END:VCALENDAR
