BEGIN:VCALENDAR
PRODID:NingEventWidget-v1
VERSION:2.0
METHOD:PUBLISH
BEGIN:VEVENT
UID:2323372:Event:70105
DTSTAMP:20260419T193430Z
SUMMARY:Crumhorn: a blast from the past!
DESCRIPTION:Join early music group Crumscrum at Barbican Music Library
  for a demonstration workshop exploring the music, history and persona
 lities of the crumhorn, one of the most distinctive instruments of the
  Renaissance. For more info visit http://www.musicnumber11.com/whats-o
 n/ Tickets free but must be booked online in advance. This event is pa
 rt of the Making Music Together exhibition, 16 Jan-23 Mar 2019, at Bar
 bican Music Library.\n\nFor more information visit http://goldenlanees
 tate.org/events/crumhorn-a-blast-from-the-past
DTSTART:20190309T140000Z
DTEND:20190309T153000Z
CATEGORIES:music, workshop, demonstration
LOCATION:Barbican Music Library
WEBSITE:https://www.barbican.org.uk/your-visit/general-info/library
URL:https://www.barbican.org.uk/your-visit/general-info/library
CONTACT:020 76380672
ORGANIZER:BarbicanMusicLibrary and Making Music
ATTACH;FMTTYPE="image/jpeg":https://storage.ning.com/topology/rest/1.0
 /file/get/977529193?profile=original
ATTENDEE;ROLE=REQ-PARTICIPANT;PARTSTAT=ACCEPTED;RSVP=TRUE;CN=BarbicanM
 usicLibrary:http://goldenlaneestate.org/profile/BarbicanMusicLibrary
END:VEVENT
END:VCALENDAR
