BEGIN:VCALENDAR
PRODID:NingEventWidget-v1
VERSION:2.0
METHOD:PUBLISH
BEGIN:VEVENT
UID:2323372:Event:73899
DTSTAMP:20260421T022356Z
SUMMARY:Family Tour
DESCRIPTION:The first of our special Family Tours for 2020. Join us on
  a journey through the Charterhouse as we look for Thomas Sutton’s m
 issing Talbots. Discover medieval monks, regal royals, terrible Tudors
  and naughty schoolboys as we search high and low for cuddly Talbot to
 ys. Can you help us find all six? Particularly suitable for under 12s.
  £10 per adult, children go free (NB max two children per paying adul
 t).\n\nFor more information visit http://goldenlaneestate.org/events/f
 amily-tour
DTSTART:20200125T130000Z
DTEND:20200125T134500Z
CATEGORIES:family, tour
LOCATION:The Charterhouse
WEBSITE:http://www.thecharterhouse.org/visit-us/whats-on/
URL:http://www.thecharterhouse.org/visit-us/whats-on/
CONTACT:02038188873
ORGANIZER;CN="Charlotte Borger":http://goldenlaneestate.org/profile/Ch
 arlotteBorger
ATTACH;FMTTYPE="image/jpeg":https://storage.ning.com/topology/rest/1.0
 /file/get/3809931847?profile=original
ATTENDEE;ROLE=REQ-PARTICIPANT;PARTSTAT=ACCEPTED;RSVP=TRUE;CN="Charlott
 e Borger":http://goldenlaneestate.org/profile/CharlotteBorger
END:VEVENT
END:VCALENDAR
