BEGIN:VCALENDAR
PRODID:NingEventWidget-v1
VERSION:2.0
METHOD:PUBLISH
BEGIN:VEVENT
UID:2323372:Event:52996
DTSTAMP:20260419T221658Z
SUMMARY:Free 1 to 1 help - basic IT skills for individuals to help for
  small businesses by staff from Lloyds Bank
DESCRIPTION:These FREE one hour IT sessions are for\nindividuals who w
 ould like some help with:\n \nü internet browsing\nü emailing –
  how to write, reply, forward and attach files\nü introduction to Wo
 rd, Excel or PowerPoint\nü social media usage – e.g. facebook, Twi
 tter\nü job search online – CVs and LinkedIn\nü laptops, tablet 
 and mobile user help\nü help with windows, apple or android systems\
 nü tips staying safe online\n \n \n \nAnd for small businesses wh
 o would like help with:\nü website creation\nü website review /rec
 ommendation\nü online advertising\n \n To book a session call the 
 library on 0207 638 0569\n \n\nFor more information visit http://gold
 enlaneestate.org/events/free-1-to-1-help-basic-it-skills-for-individua
 ls-to-help-for
DTSTART:20161017T083000Z
DTEND:20161019T153000Z
CATEGORIES:free, it, support
LOCATION:Barbican Library
WEBSITE:
URL:
CONTACT:
ORGANIZER;CN="Helen Tremaine":http://goldenlaneestate.org/profile/Hele
 nTremaine
ATTACH;FMTTYPE="image/jpeg":
ATTENDEE;ROLE=REQ-PARTICIPANT;PARTSTAT=ACCEPTED;RSVP=TRUE;CN="Helen Tr
 emaine":http://goldenlaneestate.org/profile/HelenTremaine
END:VEVENT
END:VCALENDAR
