BEGIN:VCALENDAR
PRODID:NingEventWidget-v1
VERSION:2.0
METHOD:PUBLISH
BEGIN:VEVENT
UID:2323372:Event:73575
DTSTAMP:20260421T040657Z
SUMMARY:Free Concert
DESCRIPTION:The Charterhouse presents The Aglica Trio, performing work
 s by Debussy, Debois, Takemitsu, Corelli and Mathias.\nCarys Gittins (
 flute), Agnieszka Zyniewicz (viola) and Lisa Vandersmissen (harp) brin
 g together their British, Polish and Belgian roots for this programme 
 in the Chapel at the Charterhouse.\nDonations welcomed.\n\nFor more in
 formation visit http://goldenlaneestate.org/events/free-concert
DTSTART:20200129T193000Z
DTEND:20200129T203000Z
CATEGORIES:classical, concert
LOCATION:The Charterhouse
WEBSITE:http://www.thecharterhouse.org/visit-us/whats-on/
URL:http://www.thecharterhouse.org/visit-us/whats-on/
CONTACT:02038188873
ORGANIZER;CN="Charlotte Borger":http://goldenlaneestate.org/profile/Ch
 arlotteBorger
ATTACH;FMTTYPE="image/jpeg":https://storage.ning.com/topology/rest/1.0
 /file/get/3809927366?profile=original
ATTENDEE;ROLE=REQ-PARTICIPANT;PARTSTAT=ACCEPTED;RSVP=TRUE;CN="Charlott
 e Borger":http://goldenlaneestate.org/profile/CharlotteBorger
END:VEVENT
END:VCALENDAR
