BEGIN:VCALENDAR
PRODID:NingEventWidget-v1
VERSION:2.0
METHOD:PUBLISH
BEGIN:VEVENT
UID:2323372:Event:52700
DTSTAMP:20260420T013803Z
SUMMARY:Free IT sessions by Lloyds Bank's digital team
DESCRIPTION:ü internet browsing\nü emailing – how to write, repl
 y, forward and attach files\nü introduction to Word, Excel or PowerP
 oint\nü social media usage – e.g. facebook, Twitter\nü job searc
 h online – CVs and LinkedIn\nü laptops, tablet and mobile user hel
 p\nü help with windows, apple or android systems\nü tips staying s
 afe online\n \nAnd for small businesses who would like help with:\nü
  website creation\nü website review /recommendation\nü online adv
 ertising\n \n\nFor more information visit http://goldenlaneestate.org
 /events/free-it-sessions-for-individuals-and-small-businesses
DTSTART:20161002T230000Z
DTEND:20161003T225900Z
CATEGORIES:free, -, but, booking, essential
LOCATION:Barbican Library
WEBSITE:
URL:
CONTACT:0207 6380569
ORGANIZER;CN="Helen Tremaine":http://goldenlaneestate.org/profile/Hele
 nTremaine
ATTACH;FMTTYPE="image/jpeg":http://storage.ning.com/topology/rest/1.0/
 file/get/2571579198?profile=original
ATTENDEE;ROLE=REQ-PARTICIPANT;PARTSTAT=ACCEPTED;RSVP=TRUE;CN="Helen Tr
 emaine":http://goldenlaneestate.org/profile/HelenTremaine
END:VEVENT
END:VCALENDAR
