BEGIN:VCALENDAR
PRODID:NingEventWidget-v1
VERSION:2.0
METHOD:PUBLISH
BEGIN:VEVENT
UID:2323372:Event:174077
DTSTAMP:20260422T233701Z
SUMMARY:FREE Open Morning at LSO St Lukes
DESCRIPTION:\r\nJoin us for coffee, cake and conversation at LSO St Lu
 keâ€™s on Saturday 21 October.\r\nWeâ€™re throwing open the doors of L
 SO St Lukeâ€™s on 21 October for a FREE Open Morning â€“ a chance for 
 you to meet the LSO St Lukeâ€™s team, look around the venue, find out 
 more about our future plans and share your feedback. We want to hear y
 our thoughts about our venue, and what we can do better for our neighb
 ours and community.\r\nItâ€™s completely free to join us, and you can 
 drop into the venue at any time between 10am and 1pm. Children are wel
 come, and weâ€™ll be serving free refreshments throughout the day. And
 , as a thank you, weâ€™ll be offering everyone who comes along a free 
 pair of tickets to a future BBC Radio 3 Lunchtime Concert.\r\n\r\nYouâ
 €™re welcome to drop in any time you like on the day, but if you can, 
 please let us know if youâ€™re planning on coming so we know how many 
 people to expect (use the link below).\r\nIâ€™ll be there!\n\nFor more
  information visit http://goldenlaneestate.org/events/free-open-mornin
 g-at-lso-st-lukes
DTSTART:20231021T090000Z
DTEND:20231021T120000Z
CATEGORIES:open, day
LOCATION:LSO St Lukes
WEBSITE:https://www.lso.co.uk/about-us/lso-st-lukes/lso-st-lukes-publi
 c-open-day/
URL:https://www.lso.co.uk/about-us/lso-st-lukes/lso-st-lukes-public-op
 en-day/
CONTACT:
ORGANIZER:LSO St Lukes
ATTACH;FMTTYPE="image/jpeg":https://storage.ning.com/topology/rest/1.0
 /file/get/12258802062?profile=original
ATTENDEE;ROLE=REQ-PARTICIPANT;PARTSTAT=ACCEPTED;RSVP=TRUE;CN="GLE Webs
 ite Comms Team":http://goldenlaneestate.org/profile/GLEComms
END:VEVENT
END:VCALENDAR
