BEGIN:VCALENDAR
PRODID:NingEventWidget-v1
VERSION:2.0
METHOD:PUBLISH
BEGIN:VEVENT
UID:2323372:Event:40323
DTSTAMP:20260424T123959Z
SUMMARY:Gardeners Question Time, AGM and Social Sunday
DESCRIPTION:Mike Jackson will be answering your questions on growing p
 lants in allotment bags, balconies or windowsills from 11.00 -12.00 fo
 llowed by the Golden Baggers AGM and social sunday.\nEveryone welcome 
 ..bring a mug for tea or coffee and find out how to solve all your pla
 nting problems!\nIf you would like a bag come and meet the committee a
 nd express an interest.\n\n\n\nFor more information visit http://golde
 nlaneestate.org/events/gardeners-question-time-agm-and-social-sunday
DTSTART:20140330T093000Z
DTEND:20140330T130000Z
CATEGORIES:community, social, gardening, agm
LOCATION:Ralph Perring Room
WEBSITE:
URL:
CONTACT:
ORGANIZER;CN="Sue Pearson":http://goldenlaneestate.org/profile/SuePear
 son
ATTACH;FMTTYPE="image/jpeg":http://storage.ning.com/topology/rest/1.0/
 file/get/2571578774?profile=original
ATTENDEE;ROLE=REQ-PARTICIPANT;PARTSTAT=ACCEPTED;RSVP=TRUE;CN="Anna Par
 kinson":http://goldenlaneestate.org/profile/AnnaParkinson
ATTENDEE;ROLE=REQ-PARTICIPANT;PARTSTAT=ACCEPTED;RSVP=TRUE;CN="Sue Pear
 son":http://goldenlaneestate.org/profile/SuePearson
END:VEVENT
END:VCALENDAR
