BEGIN:VCALENDAR
PRODID:NingEventWidget-v1
VERSION:2.0
METHOD:PUBLISH
BEGIN:VEVENT
UID:2323372:Event:27389
DTSTAMP:20260424T172455Z
SUMMARY:Give and take community cafe
DESCRIPTION:For the third community cafe, we’ll be encouraging peopl
 e to donate any things they no longer want, and perhaps take something
  for free from what other people have brought. The event will be struc
 tured so that 11:00-12:30 is for people to bring any reusable items th
 ey no longer need and 12:30-2:30 for people to take something they nee
 d home for free.\nEssentially, anything reusable is welcome, including
  household items such as books, CDs, DVDs, electrical and electronic i
 tems (to be taken at users’ own risk), toys, sports gear, bric-a-bra
 c, good quality clothes and small items of furniture. Unfortunately, w
 e cannot accept broken items in need of repair, food, toiletries, shar
 p or dangerous items, and upholstery without a fire safety tag.  \nAs
  the giving and taking is coinciding with a community cafe, do come al
 ong and have some coffee and cake, even if you’re perfectly happy wi
 th all the things you own!\n\nFor more information visit http://golden
 laneestate.org/events/give-and-take-community-cafe
DTSTART:20120128T110000Z
DTEND:20120128T143000Z
CATEGORIES:community, cafe
LOCATION:Golden Lane Community Cente
WEBSITE:
URL:
CONTACT:07810 747 193
ORGANIZER;CN="Jonny Hazell":http://goldenlaneestate.org/profile/JonnyH
 azell
ATTACH;FMTTYPE="image/jpeg":http://storage.ning.com/topology/rest/1.0/
 file/get/2571569566?profile=original
ATTENDEE;ROLE=REQ-PARTICIPANT;PARTSTAT=ACCEPTED;RSVP=TRUE;CN="Jonny Ha
 zell":http://goldenlaneestate.org/profile/JonnyHazell
END:VEVENT
END:VCALENDAR
