BEGIN:VCALENDAR
PRODID:NingEventWidget-v1
VERSION:2.0
METHOD:PUBLISH
BEGIN:VEVENT
UID:2323372:Event:175408
DTSTAMP:20260422T190016Z
SUMMARY:GLERA AGM
DESCRIPTION:\r\nmore info on the GLERA website\n\nFor more information
  visit http://goldenlaneestate.org/events/glera-agm-3
DTSTART:20240630T100000Z
DTEND:20240630T120000Z
CATEGORIES:meeting
LOCATION:Community Centre
WEBSITE:
URL:
CONTACT:
ORGANIZER:GLERA
ATTACH;FMTTYPE="image/jpeg":https://storage.ning.com/topology/rest/1.0
 /file/get/11386761290?profile=original
ATTENDEE;ROLE=REQ-PARTICIPANT;PARTSTAT=ACCEPTED;RSVP=TRUE;CN="GLE Webs
 ite Comms Team":http://goldenlaneestate.org/profile/GLEComms
END:VEVENT
END:VCALENDAR
