BEGIN:VCALENDAR
PRODID:NingEventWidget-v1
VERSION:2.0
METHOD:PUBLISH
BEGIN:VEVENT
UID:2323372:Event:68627
DTSTAMP:20260419T170404Z
SUMMARY:GLERA Annual General Meeting June 2020 - note change of date
DESCRIPTION:This meeting will take place via Zoom (video conferencing
 ) in line  with the current government advice on social distancing. 
 \r\nTo register\r\nhttps://us02web.zoom.us/meeting/register/tZwvfu-rpz
 koG9C5uDIQXT5uzxY3ZcKSpRS6\r\n________________\r\n\r\nYour chance to m
 eet with your fellow residents and discuss matters important to you wi
 th the GLERA Committee. Also elect members to the Committee.\r\n\r\nAl
 l meetings follow the same outline agenda:\r\n1. Apologies 2. Agreemen
 t of minutes 3. Matters arising 4. Major projects 5. Maintenance and r
 epairs 6. GLERA/CoL governance and communication 7. Quality of life/co
 mmunity projects  8. Any other business 9. Dates for future meetings\r
 \nFind out more about GLERA - your residents' association.  \n\nFor 
 more information visit http://goldenlaneestate.org/events/glera-annual
 -general-meeting-june-2019
DTSTART:20200625T180000Z
DTEND:20200625T193000Z
CATEGORIES:glera, meeting
LOCATION:Zooom
WEBSITE:
URL:
CONTACT:
ORGANIZER:GLERA
ATTACH;FMTTYPE="image/jpeg":http://storage.ning.com/topology/rest/1.0/
 file/get/2571585485?profile=original
ATTENDEE;ROLE=REQ-PARTICIPANT;PARTSTAT=ACCEPTED;RSVP=TRUE;CN="GLE Webs
 ite Comms Team":http://goldenlaneestate.org/profile/GLEComms
ATTENDEE;ROLE=REQ-PARTICIPANT;PARTSTAT=ACCEPTED;RSVP=TRUE;CN="Iain Mee
 k":http://goldenlaneestate.org/profile/IainMeek
END:VEVENT
END:VCALENDAR
