BEGIN:VCALENDAR
PRODID:NingEventWidget-v1
VERSION:2.0
METHOD:PUBLISH
BEGIN:VEVENT
UID:2323372:Event:34550
DTSTAMP:20260424T110940Z
SUMMARY:GLERA general meeting
DESCRIPTION:Note revised start time of 8 pm.\nAgenda:\nMinutes of meet
 ing 11th February 2013\nMatters arising (City Planning response to que
 ry re multiple occupancy)\nGeneral Estate Matters (Police attendance a
 t meetings, anti social behavior, role of Great Arthur House Sub Comm
 ittee)\nReports\netc.\n\nFor more information visit http://goldenlanee
 state.org/events/glera-general-meeting-2
DTSTART:20130416T190000Z
DTEND:20130416T203000Z
CATEGORIES:general, meeting
LOCATION:Community Hall
WEBSITE:
URL:
CONTACT:
ORGANIZER;CN="Daniel Elson":http://goldenlaneestate.org/profile/Daniel
 Elson
ATTACH;FMTTYPE="image/jpeg":
ATTENDEE;ROLE=REQ-PARTICIPANT;PARTSTAT=ACCEPTED;RSVP=TRUE;CN="Daniel E
 lson":http://goldenlaneestate.org/profile/DanielElson
END:VEVENT
END:VCALENDAR
