BEGIN:VCALENDAR
PRODID:NingEventWidget-v1
VERSION:2.0
METHOD:PUBLISH
BEGIN:VEVENT
UID:2323372:Event:44322
DTSTAMP:20260420T074355Z
SUMMARY:GLERA general meeting
DESCRIPTION:Posted on behalf of GLERA:\n\nÂ  Â  Â  Â  Â  Â  Â  Â  Â  Â
  Golden Lane Residentsâ€™ Meeting\nÂ \nÂ Â Â Â Â Â Â  Â Â Â Â Â Â Â Â 
 Â Â Â Â Â Â Â Â Tuesday 17 February 2015\nÂ \nÂ Â Â Â Â Â Â Â Â Â Â Â 
 Â Â Â Â Â  7.30pm in the Sir Ralph Perring Centre\nÂ \nÂ \nAgenda\n-Â 
 Welcome and Introductions\n- Visiting Speaker â€“ Kirsty Leitch (City 
 of London) - Time Credits and Good Neighbour Scheme\n- Minutes of prev
 ious meeting\n- Appointment of additional member to GLERA Committee\n-
  Reports â€“ Chair , Secretary, Treasurer\nÂ Includes: Progress on act
 ion points from previous meeting\n- Estate matters â€“\n\nGeneral\nLea
 seholders\nTenants\n\n- Any other business\n- Date of next meeting\nÂ 
 \nIf you wish to contact any member of the Committee please leave a me
 ssage in the GLERA box in the Estate Office and we will ensure that yo
 u receive a response.Â \nÂ Â \nAlison MacDonald\nSecretary\nGLERA\n\nF
 or more information visit http://goldenlaneestate.org/events/glera-gen
 eral-meeting-5
DTSTART:20150217T193000Z
DTEND:20150217T210000Z
CATEGORIES:general, meeting
LOCATION:Sir Ralph Perring Centre
WEBSITE:
URL:
CONTACT:
ORGANIZER:GLERA
ATTACH;FMTTYPE="image/jpeg":
ATTENDEE;ROLE=REQ-PARTICIPANT;PARTSTAT=ACCEPTED;RSVP=TRUE;CN="Daniel E
 lson":http://goldenlaneestate.org/profile/DanielElson
END:VEVENT
END:VCALENDAR
