BEGIN:VCALENDAR
PRODID:NingEventWidget-v1
VERSION:2.0
METHOD:PUBLISH
BEGIN:VEVENT
UID:2323372:Event:63671
DTSTAMP:20260426T041421Z
SUMMARY:Golden Baggers trip to Turn End
DESCRIPTION:The Golden baggers would like to invite GLE residents to j
 oin them on their annual trip. This year the outing is to Turn End, a 
 beautiful house and garden created in the 1960â€™s by Peter and Margar
 et Aldington. Â \r\nVisit their website for more details orÂ see attac
 hed info sheet\r\n\r\nIn addition we will visit the local allotments (
 where we can have a picnic together) and newly established community o
 rchard in the same village.\r\n\r\nTravel will be by coach from the es
 tate, leaving at 9.30 sharp. Depending on parking for the coach there 
 may be a walk through the village of twenty minutes or so between the 
 orchard and the allotments. Â Please let us know of any particular acc
 essibility requirements.\r\n\r\nWe will visit Turn End at 2.30pm; ther
 e will be a guided tour of the house and gardens and refreshments will
  be available. Children are welcome.\r\nThere will be 50 seats on the 
 coach. Â To secure a place on the trip, please pay a deposit of Â£5 pe
 r person to Anne Corbett. The deposit will be refunded on the day.\r\n
 Anne will be collecting deposits in the allotments on the following da
 tes:\r\n\r\n\r\nTuesday 20th March from 7pm to 7.30pm\r\nSunday 25th M
 arch 10.45am to 11.15am\r\nWednesday 28th March 7pm to 7.30pm\r\nWedne
 sday 18th April 7pm to 7.30pmÂ \r\nSunday 22nd April 10.45 to 11.15amÂ
  \r\n\r\nIf you are passing you can also knock on Anne's door - 11 Bas
 terfield House\r\nPLEASE DO NOT POST ENVELOPES THROUGH HER LETTERBOX\r
 \n\r\n\r\n\n\nFor more information visit http://goldenlaneestate.org/e
 vents/golden-baggers-trip-to-turn-end
DTSTART:20180505T230000Z
DTEND:20180506T225900Z
CATEGORIES:visit
LOCATION:Turn End Gardens
WEBSITE:https://www.turnend.org.uk/
URL:https://www.turnend.org.uk/
CONTACT:
ORGANIZER:Golden Baggers
ATTACH;FMTTYPE="image/jpeg":http://storage.ning.com/topology/rest/1.0/
 file/get/2571589244?profile=original
ATTENDEE;ROLE=REQ-PARTICIPANT;PARTSTAT=ACCEPTED;RSVP=TRUE;CN="wen zhen
 g":http://goldenlaneestate.org/profile/wenzheng
ATTENDEE;ROLE=REQ-PARTICIPANT;PARTSTAT=ACCEPTED;RSVP=TRUE;CN="GLE Webs
 ite Comms Team":http://goldenlaneestate.org/profile/GLEComms
ATTENDEE;ROLE=REQ-PARTICIPANT;PARTSTAT=ACCEPTED;RSVP=TRUE;CN="Anna Par
 kinson":http://goldenlaneestate.org/profile/AnnaParkinson
END:VEVENT
END:VCALENDAR
