BEGIN:VCALENDAR
PRODID:NingEventWidget-v1
VERSION:2.0
METHOD:PUBLISH
BEGIN:VEVENT
UID:2323372:Event:26782
DTSTAMP:20260424T210025Z
SUMMARY:Golden Lane Estate Residents' Association Meeting
DESCRIPTION:Agenda:\nMinutes of meeting 11 October 2011; \nMatters ar
 ising from previous minutes; \nCity officer (Bob Jacks); \nReports -
  Chairman, Secretary, Treasurer; \nTenant matters; \nGeneral estate 
 matters; \nAOB\n\nFor more information visit http://goldenlaneestate.
 org/events/golden-lane-estate-residents-association-meeting-1
DTSTART:20111213T193000Z
DTEND:20111213T210000Z
CATEGORIES:general, meeting
LOCATION:Community Hall
WEBSITE:
URL:
CONTACT:
ORGANIZER;CN="Daniel Elson":http://goldenlaneestate.org/profile/Daniel
 Elson
ATTACH;FMTTYPE="image/jpeg":
ATTENDEE;ROLE=REQ-PARTICIPANT;PARTSTAT=ACCEPTED;RSVP=TRUE;CN="Daniel E
 lson":http://goldenlaneestate.org/profile/DanielElson
END:VEVENT
END:VCALENDAR
