BEGIN:VCALENDAR
PRODID:NingEventWidget-v1
VERSION:2.0
METHOD:PUBLISH
BEGIN:VEVENT
UID:2323372:Event:27734
DTSTAMP:20260424T205954Z
SUMMARY:Golden Lane Estate Residents' Association Meeting
DESCRIPTION:1. Minutes of meeting 13th December 2011\n2. Matters arisi
 ng from previous minutes\n3. City office\n4. Reports: Chairman, Secret
 ary, Treasurer\n5. Tenant matters\n6. General estate matters\n7. Lease
 holder matters\n8. Social activities\n9. AOB\n10. Dates of future meet
 ings:17th April, 12th June (AGM), 14th August\n\nFor more information 
 visit http://goldenlaneestate.org/events/golden-lane-estate-residents-
 association-meeting-2
DTSTART:20120221T190000Z
DTEND:20120221T210000Z
CATEGORIES:general, meeting
LOCATION:Community Hall
WEBSITE:
URL:
CONTACT:
ORGANIZER;CN="Daniel Elson":http://goldenlaneestate.org/profile/Daniel
 Elson
ATTACH;FMTTYPE="image/jpeg":http://storage.ning.com/topology/rest/1.0/
 file/get/2571567907?profile=original
ATTENDEE;ROLE=REQ-PARTICIPANT;PARTSTAT=ACCEPTED;RSVP=TRUE;CN="BARBICAN
  POLICE TEAM":http://goldenlaneestate.org/profile/BARBICANPOLICETEAM
ATTENDEE;ROLE=REQ-PARTICIPANT;PARTSTAT=ACCEPTED;RSVP=TRUE;CN="Daniel E
 lson":http://goldenlaneestate.org/profile/DanielElson
END:VEVENT
END:VCALENDAR
