BEGIN:VCALENDAR
PRODID:NingEventWidget-v1
VERSION:2.0
METHOD:PUBLISH
BEGIN:VEVENT
UID:2323372:Event:28242
DTSTAMP:20260425T004311Z
SUMMARY:Golden Lane Estate Residents' Association Meeting
DESCRIPTION:1. Minutes of meeting 21st February 2012\n2. Matters arisi
 ng from previous minutes\n3. City officer\n4. Reports (chairman, secre
 tary, treasurer)\n5. Tenant matters\n6. General estate matters\n7. Lea
 seholder matters\n8. Social activities\n9. AOB\n\n\nFor more informati
 on visit http://goldenlaneestate.org/events/golden-lane-estate-residen
 ts-association-meeting-3
DTSTART:20120417T183000Z
DTEND:20120417T200000Z
CATEGORIES:general, meeting
LOCATION:Community Hall
WEBSITE:
URL:
CONTACT:
ORGANIZER;CN="Daniel Elson":http://goldenlaneestate.org/profile/Daniel
 Elson
ATTACH;FMTTYPE="image/jpeg":
ATTENDEE;ROLE=REQ-PARTICIPANT;PARTSTAT=ACCEPTED;RSVP=TRUE;CN="Daniel E
 lson":http://goldenlaneestate.org/profile/DanielElson
END:VEVENT
END:VCALENDAR
