BEGIN:VCALENDAR
PRODID:NingEventWidget-v1
VERSION:2.0
METHOD:PUBLISH
BEGIN:VEVENT
UID:2323372:Event:5335
DTSTAMP:20260423T232734Z
SUMMARY:Golden Lane Leisure Centre Users' Meeting
DESCRIPTION:Quarterly meeting for users of the Centre to feedback.\n\n
 For more information visit http://goldenlaneestate.org/events/golden-l
 ane-leisure-centre-1
DTSTART:20100309T173000Z
DTEND:20100309T183000Z
CATEGORIES:meeting
LOCATION:GLLC
WEBSITE:
URL:
CONTACT:
ORGANIZER:GLLC
ATTACH;FMTTYPE="image/jpeg":
ATTENDEE;ROLE=REQ-PARTICIPANT;PARTSTAT=ACCEPTED;RSVP=TRUE;CN="Paul Lin
 coln":http://goldenlaneestate.org/profile/PALincoln
END:VEVENT
END:VCALENDAR
