BEGIN:VCALENDAR
PRODID:NingEventWidget-v1
VERSION:2.0
METHOD:PUBLISH
BEGIN:VEVENT
UID:2323372:Event:24785
DTSTAMP:20260424T223850Z
SUMMARY:Golden Lane Resident and User Meeting
DESCRIPTION:GLLC%20meeting%20Nov%202011%20fusion.doc\n\nFor more infor
 mation visit http://goldenlaneestate.org/events/golden-lane-resident-a
 nd-user-meeting
DTSTART:20111122T183000Z
DTEND:20111122T194500Z
CATEGORIES:meeting
LOCATION:Golden Lane Community Hall
WEBSITE:http://www.cityoflondon.gov.uk/gllc
URL:http://www.cityoflondon.gov.uk/gllc
CONTACT:0207 332 1646
ORGANIZER;CN="Denise Davy":http://goldenlaneestate.org/profile/DeniseD
 avy
ATTACH;FMTTYPE="image/jpeg":
ATTENDEE;ROLE=REQ-PARTICIPANT;PARTSTAT=ACCEPTED;RSVP=TRUE;CN="Denise D
 avy":http://goldenlaneestate.org/profile/DeniseDavy
END:VEVENT
END:VCALENDAR
