BEGIN:VCALENDAR
PRODID:NingEventWidget-v1
VERSION:2.0
METHOD:PUBLISH
BEGIN:VEVENT
UID:2323372:Event:5170
DTSTAMP:20260423T160741Z
SUMMARY:Golden Lane Residents Association Meeting
DESCRIPTION:1. The minutes\n2. Chairman's report\n3. Secretary's repor
 t\n4. Treasurer's report\n5. The City reports\n- Planning department\n
 - Results of the City Leisure Centre report\n6.. The Gardening sub-Com
 mittee\n7. The Great Arthur House Cladding Committee\n8. Any other bus
 iness\nA. Play spaces\nB. Rogue companies\nC. Exhibit Gallery\n\nFor m
 ore information visit http://goldenlaneestate.org/events/golden-lane-r
 esidents-1
DTSTART:20100202T193000Z
DTEND:20100202T210000Z
CATEGORIES:glera, meeting
LOCATION:Community Hall
WEBSITE:
URL:
CONTACT:
ORGANIZER;CN="Daniel Elson":http://goldenlaneestate.org/profile/Daniel
 Elson
ATTACH;FMTTYPE="image/jpeg":http://storage.ning.com/topology/rest/1.0/
 file/get/2571567907?profile=original
ATTENDEE;ROLE=REQ-PARTICIPANT;PARTSTAT=ACCEPTED;RSVP=TRUE;CN="Daniel E
 lson":http://goldenlaneestate.org/profile/DanielElson
END:VEVENT
END:VCALENDAR
