BEGIN:VCALENDAR
PRODID:NingEventWidget-v1
VERSION:2.0
METHOD:PUBLISH
BEGIN:VEVENT
UID:2323372:Event:39368
DTSTAMP:20260424T110930Z
SUMMARY:Golden Lane Residents' Association Meeting
DESCRIPTION:The meeting will feature the usual items plus discussion 
 with two guests:\nLaurence Jones, Estate Manager\nPetra Sprowson on Li
 sted Building Guidelines / Greening the Estate\n\nFor more information
  visit http://goldenlaneestate.org/events/golden-lane-residents-associ
 ation-meeting
DTSTART:20140211T193000Z
DTEND:20140211T210000Z
CATEGORIES:general, meeting
LOCATION:Sir Ralph Perring Centre
WEBSITE:
URL:
CONTACT:
ORGANIZER;CN="Daniel Elson":http://goldenlaneestate.org/profile/Daniel
 Elson
ATTACH;FMTTYPE="image/jpeg":
ATTENDEE;ROLE=REQ-PARTICIPANT;PARTSTAT=ACCEPTED;RSVP=TRUE;CN="Daniel E
 lson":http://goldenlaneestate.org/profile/DanielElson
END:VEVENT
END:VCALENDAR
