BEGIN:VCALENDAR
PRODID:NingEventWidget-v1
VERSION:2.0
METHOD:PUBLISH
BEGIN:VEVENT
UID:2323372:Event:174158
DTSTAMP:20260424T213326Z
SUMMARY:Harvest Celebration invite from the Golden Baggers
DESCRIPTION:\n\nFor more information visit http://goldenlaneestate.org
 /events/harvest-celebration-invite-from-the-golden-baggers
DTSTART:20231105T153000Z
DTEND:20231105T173000Z
CATEGORIES:celebration
LOCATION:Golden Lane Allotments
WEBSITE:
URL:
CONTACT:
ORGANIZER:Golden Baggers
ATTACH;FMTTYPE="image/jpeg":https://storage.ning.com/topology/rest/1.0
 /file/get/12282201275?profile=original
ATTENDEE;ROLE=REQ-PARTICIPANT;PARTSTAT=ACCEPTED;RSVP=TRUE;CN="GLE Webs
 ite Comms Team":http://goldenlaneestate.org/profile/GLEComms
END:VEVENT
END:VCALENDAR
