BEGIN:VCALENDAR
PRODID:NingEventWidget-v1
VERSION:2.0
METHOD:PUBLISH
BEGIN:VEVENT
UID:2323372:Event:27296
DTSTAMP:20260424T155128Z
SUMMARY:Home Owner's Forum meeting
DESCRIPTION:Please confirm, by Tuesday 24 January, to jean.evans@cityo
 flondon.gov.ukÂ  (0207 332 3224) if you will be attending this meeting
 . If we do not hear from you, we will assume you do not wish to attend
 .Â \n\n\nWelcome and introductions\nApologies for attendance Â  Â  Â  
 Â  Â  Â  Â  Â  Â  Â  Â  Â  Â  Â  Â  Â  Â  Â  Â  Â  Â  Â  Â  Â  Â  Â  R
 epairs and Maintenance Â  Â  Â  Â  Â  Â  Â  Â  Â  Â  Â  Â  Â  Â  Â  Â 
  Â  Â  Â  Â  Â  Â  Â  Â  Â  Â  Â  Â  Â  Â  Â  Â  Â  Â  Â  Â  Â General
  questions/answers/discussion Â  Â  Â  Â  Â  Â  Â  Â  Â  Â  Â  Â  Â  Â
   Â  Â  Â  Â  Â  Â  Â  Â  Â  Â  Â  Â  Â  Future meeting agenda, date, 
 time, and venue. Â  Â  Â  Â  Â  Â  Â  Â  Â  Â Any Other business Â \n\
 n\nPlease note, City of London officers will be on-hand directly after
  the meeting if anyone wants to discuss individual matters.Â \n\nÂ  Â 
  Â  Â  Â  Â  Â  Â  Â  Â  Â  Â  Â  Â  Â  Â  Â  Â  Â  Â  Â  Â  Â  Â  Â  
 Â  Â  Â  Â  Â \n\nFor more information visit http://goldenlaneestate.o
 rg/events/home-owner-s-forum-meeting
DTSTART:20120125T180000Z
DTEND:20120125T193000Z
CATEGORIES:home, "owner's", forum
LOCATION:Community Hall
WEBSITE:
URL:
CONTACT:
ORGANIZER:Department of Community and Children's Services
ATTACH;FMTTYPE="image/jpeg":
ATTENDEE;ROLE=REQ-PARTICIPANT;PARTSTAT=ACCEPTED;RSVP=TRUE;CN="Daniel E
 lson":http://goldenlaneestate.org/profile/DanielElson
END:VEVENT
END:VCALENDAR
