BEGIN:VCALENDAR
PRODID:NingEventWidget-v1
VERSION:2.0
METHOD:PUBLISH
BEGIN:VEVENT
UID:2323372:Event:173821
DTSTAMP:20260422T222532Z
SUMMARY:Illustrated talk on Wren and extraordinary times
DESCRIPTION:Join Jill Finch for an illustrated talk on Wren’s life a
 nd the path that placed him at the centre of a group of scientists, ph
 ilosophers, clerics and intellectuals,who made 17th century London an 
 extraordinary and exciting place.\n2023 is the Tercentenary of the dea
 th of Sir Christopher Wren, whose baroque Cathedral on the top of Ludg
 ate Hill and innovative array of City churches, make the Square Mile s
 uch a fascinating place to visit.\nhttps://www.eventbrite.co.uk/e/7137
 26825147?aff=oddtdtcreator\n\nPART OF A BARBICAN LIBRARY WREN 300 EVEN
 TS\n\nFor more information visit http://goldenlaneestate.org/events/il
 lustrated-talk-on-wren-and-extraordinary-times
DTSTART:20231010T113000Z
DTEND:20231010T123000Z
CATEGORIES:free, talk
LOCATION:Barbican Library
WEBSITE:
URL:
CONTACT:
ORGANIZER;CN="Helen Tremaine":http://goldenlaneestate.org/profile/Hele
 nTremaine
ATTACH;FMTTYPE="image/jpeg":
ATTENDEE;ROLE=REQ-PARTICIPANT;PARTSTAT=ACCEPTED;RSVP=TRUE;CN="Helen Tr
 emaine":http://goldenlaneestate.org/profile/HelenTremaine
END:VEVENT
END:VCALENDAR
