BEGIN:VCALENDAR
PRODID:NingEventWidget-v1
VERSION:2.0
METHOD:PUBLISH
BEGIN:VEVENT
UID:2323372:Event:26823
DTSTAMP:20260424T173513Z
SUMMARY:Job Club at the City Business Library
DESCRIPTION:   Job club at the City Business Library\n \n Have you
  recently been made redundant and are looking for employment?\n \nDo 
 you live in the City of London or neighbouring boroughs such as Tower 
 Hamlets, Islington, Hackney, Southwark, etc?\n \nIf so, the City Busi
 ness Library is running a Job Club that may interest you…\n \nThe J
 ob Club is FREE to attend.  It is an exciting and excellent opportuni
 ty to have guidance from experts in the field of employment searching.
   It will be 2 hours per week for 5 weeks, starting 9th Feb 2012. \n
  \n09/02/12 (10:00-12:00 or 14:00-16:00)\nGetting started and job sea
 rching tips\nVeronica Broomes www.yoursmallbusinesscoach.co.uk\n \n16
 /02/12 (10:00-12:00 or 14:00-16:00)\nWriting CV’s and covering lette
 rs\nAlex Wilson-Campbell www.rapidcvwriting.com\n \n23/02/12 (10:00-1
 2:00 or 14:00-16:00)\nUsing specialist databases for job searching\nWe
 ndy Foster www.cityoflondon.gov.uk/cbl\n \n01/03/12 (10:00-12:00 or 1
 4:00-16:00)\nInterviewing skills\nKathy Ennis www.kathyennis.co.uk\n 
 \n08/03/12 (10:00-12:00 or 14:00-16:00)\nForward planning\nHannah McNa
 mara www.hannahmcnamara.com\n \n For further details please contact 
 Wendy Foster at the City Business Library wendy.foster@cityoflondon.go
 v.uk\n \nCity Business Library\nAldermanbury\nLondon,EC2V 7HH\n020 73
 32 1812\n \nwww.cityoflondon.gov.uk\nwww.facebook.com/citybusinesslib
 rary\ncbl@cityoflondon.gov.uk \n\nFor more information visit http://g
 oldenlaneestate.org/events/job-club-at-the-city-business-library
DTSTART:20120109T100000Z
DTEND:20120109T120000Z
CATEGORIES:free, training
LOCATION:City Business Library, Guildhall
WEBSITE:http://www.cityoflondon.gov.uk/cbl
URL:http://www.cityoflondon.gov.uk/cbl
CONTACT:020 7332 1812
ORGANIZER;CN="Wendy Foster":http://goldenlaneestate.org/profile/WendyF
 oster
ATTACH;FMTTYPE="image/jpeg":http://storage.ning.com/topology/rest/1.0/
 file/get/2571569159?profile=original
ATTENDEE;ROLE=REQ-PARTICIPANT;PARTSTAT=ACCEPTED;RSVP=TRUE;CN="Wendy Fo
 ster":http://goldenlaneestate.org/profile/WendyFoster
END:VEVENT
END:VCALENDAR
