BEGIN:VCALENDAR
PRODID:NingEventWidget-v1
VERSION:2.0
METHOD:PUBLISH
BEGIN:VEVENT
UID:2323372:Event:176512
DTSTAMP:20260425T201421Z
SUMMARY:Launch of the Golden Lane Bike Project
DESCRIPTION:\n\nFor more information visit http://goldenlaneestate.org
 /events/launch-of-the-golden-lane-bike-project
DTSTART:20241214T140000Z
DTEND:20241214T150000Z
CATEGORIES:community, event
LOCATION:Outside Community Centre and around the estate
WEBSITE:http://imaginegoldenlane.uk
URL:http://imaginegoldenlane.uk
CONTACT:
ORGANIZER;CN="Paul Lincoln":http://goldenlaneestate.org/profile/PALinc
 oln
ATTACH;FMTTYPE="image/jpeg":
ATTENDEE;ROLE=REQ-PARTICIPANT;PARTSTAT=ACCEPTED;RSVP=TRUE;CN="Paul Lin
 coln":http://goldenlaneestate.org/profile/PALincoln
END:VEVENT
END:VCALENDAR
