BEGIN:VCALENDAR
PRODID:NingEventWidget-v1
VERSION:2.0
METHOD:PUBLISH
BEGIN:VEVENT
UID:2323372:Event:176151
DTSTAMP:20260422T224700Z
SUMMARY:Leaping the Bounds - Cripplegate boundary walk for all the fam
 ily
DESCRIPTION:\r\n\n\nFor more information visit http://goldenlaneestate
 .org/events/leaping-the-bounds-cripplegate-boundary-walk-for-all-the-f
 amily
DTSTART:20241015T123000Z
DTEND:20241015T140000Z
CATEGORIES:walk
LOCATION:starts at St Giles church
WEBSITE:
URL:
CONTACT:
ORGANIZER:
ATTACH;FMTTYPE="image/jpeg":https://storage.ning.com/topology/rest/1.0
 /file/get/12993116266?profile=original
ATTENDEE;ROLE=REQ-PARTICIPANT;PARTSTAT=ACCEPTED;RSVP=TRUE;CN="GLE Webs
 ite Comms Team":http://goldenlaneestate.org/profile/GLEComms
END:VEVENT
END:VCALENDAR
