BEGIN:VCALENDAR
PRODID:NingEventWidget-v1
VERSION:2.0
METHOD:PUBLISH
BEGIN:VEVENT
UID:2323372:Event:40215
DTSTAMP:20260424T142805Z
SUMMARY:LMA Film Show
DESCRIPTION:Fascinating archive footage of the Barbican and City of Lo
 ndon at the Barbican Library next Wednesday lunchtime.\n\nFor more inf
 ormation visit http://goldenlaneestate.org/events/lma-film-show
DTSTART:20140312T123000Z
DTEND:20140312T130000Z
CATEGORIES:library, free, event
LOCATION:Barbican Library
WEBSITE:
URL:
CONTACT:
ORGANIZER;CN="Helen Tremaine":http://goldenlaneestate.org/profile/Hele
 nTremaine
ATTACH;FMTTYPE="image/jpeg":http://storage.ning.com/topology/rest/1.0/
 file/get/2310561504?profile=original
ATTENDEE;ROLE=REQ-PARTICIPANT;PARTSTAT=ACCEPTED;RSVP=TRUE;CN="Helen Tr
 emaine":http://goldenlaneestate.org/profile/HelenTremaine
END:VEVENT
END:VCALENDAR
