BEGIN:VCALENDAR
PRODID:NingEventWidget-v1
VERSION:2.0
METHOD:PUBLISH
BEGIN:VEVENT
UID:2323372:Event:52792
DTSTAMP:20260419T234933Z
SUMMARY:London Destroyed
DESCRIPTION:London has been destroyed in\nfiction many times, whether 
 by flood, fire, war or alien invasion. Footprints of London guide\nRob
  Smith will look at the reasons authors have felt the need to bring di
 saster to London. He will read some examples that feature in his walk 
 which is part of this year’s\nLiterary Footprints Festival, a series
 \nof walks throughout October that\ncelebrate London books and\nauthor
 s. \n \n\nFor more information visit http://goldenlaneestate.org/eve
 nts/london-destroyed
DTSTART:20161004T113000Z
DTEND:20161004T123000Z
CATEGORIES:free, lunchtime, talk, -, just, turn, up
LOCATION:Barbican Library
WEBSITE:
URL:
CONTACT:
ORGANIZER;CN="Helen Tremaine":http://goldenlaneestate.org/profile/Hele
 nTremaine
ATTACH;FMTTYPE="image/jpeg":http://storage.ning.com/topology/rest/1.0/
 file/get/2571579294?profile=original
ATTENDEE;ROLE=REQ-PARTICIPANT;PARTSTAT=ACCEPTED;RSVP=TRUE;CN="Helen Tr
 emaine":http://goldenlaneestate.org/profile/HelenTremaine
END:VEVENT
END:VCALENDAR
