BEGIN:VCALENDAR
PRODID:NingEventWidget-v1
VERSION:2.0
METHOD:PUBLISH
BEGIN:VEVENT
UID:2323372:Event:52727
DTSTAMP:20260420T033326Z
SUMMARY:Love your life - relationships and well-being
DESCRIPTION:\nSue Plumtree will be sharing her insights into how to li
 ve a healthy and happy life\n\nAdmission free but booking advisable 02
 076380569 or barbicanlib@cityoflondon.gov.uk\n\nFor more information v
 isit http://goldenlaneestate.org/events/love-your-life-relationships-a
 nd-well-being
DTSTART:20161117T123000Z
DTEND:20161117T133000Z
CATEGORIES:health, talk
LOCATION:Barbican Library, 2nd Floor Barbican Centre
WEBSITE:http://www.cityoflondon.gov.uk/libraries
URL:http://www.cityoflondon.gov.uk/libraries
CONTACT:02076380569
ORGANIZER;CN="Geraldine Pote":http://goldenlaneestate.org/profile/Gera
 ldinePote
ATTACH;FMTTYPE="image/jpeg":
ATTENDEE;ROLE=REQ-PARTICIPANT;PARTSTAT=ACCEPTED;RSVP=TRUE;CN="Geraldin
 e Pote":http://goldenlaneestate.org/profile/GeraldinePote
END:VEVENT
END:VCALENDAR
