BEGIN:VCALENDAR
PRODID:NingEventWidget-v1
VERSION:2.0
METHOD:PUBLISH
BEGIN:VEVENT
UID:2323372:Event:51934
DTSTAMP:20260419T191157Z
SUMMARY:Market Day
DESCRIPTION:Market Day with stalls, cafe and at 1pm Sing-Along band wi
 th Harriet Ashcroft. Come along and see what happening. Bring your res
 idents flyer and enjoy the allotments too on Open Garden Squares Weeke
 nd.\n\nFor more information visit http://goldenlaneestate.org/events/m
 arket-day
DTSTART:20160618T100000Z
DTEND:20160618T140000Z
CATEGORIES:community, event
LOCATION:Ralph Perring, Hatfield Lawn or under Crescent if its raining
WEBSITE:
URL:
CONTACT:
ORGANIZER;CN="Sue Pearson":http://goldenlaneestate.org/profile/SuePear
 son
ATTACH;FMTTYPE="image/jpeg":
ATTENDEE;ROLE=REQ-PARTICIPANT;PARTSTAT=ACCEPTED;RSVP=TRUE;CN="Sue Pear
 son":http://goldenlaneestate.org/profile/SuePearson
END:VEVENT
END:VCALENDAR
