BEGIN:VCALENDAR
PRODID:NingEventWidget-v1
VERSION:2.0
METHOD:PUBLISH
BEGIN:VEVENT
UID:2323372:Event:42459
DTSTAMP:20260419T222918Z
SUMMARY:Monthly City carers’ support group meeting
DESCRIPTION:Invitation To Unpaid, Informal City Carers\nYou are invite
 d to the next monthly City carers’ support group meeting on 9th  Se
 ptember 2014 at 11am-12.30pm\n\nTrading Standards Service will  atten
 d to highlight\n  The Increasing number of scams  reported in the C
 ity\n\n\n\n\nFor more information visit http://goldenlaneestate.org/ev
 ents/monthly-city-carers-support-group-meeting-3
DTSTART:20140909T100000Z
DTEND:20140909T113000Z
CATEGORIES:monthly, city, "carers’", support, group, meeting
LOCATION:Tudor Rose Court,
WEBSITE:http://http//www.eldersvoice.org.uk/ elainef@eldersvoice.org.u
 k
URL:http://http//www.eldersvoice.org.uk/ elainef@eldersvoice.org.uk
CONTACT:: 020 8206 7505
ORGANIZER;CN="Elaine Fletcher":http://goldenlaneestate.org/profile/Ela
 ineFletcher
ATTACH;FMTTYPE="image/jpeg":
ATTENDEE;ROLE=REQ-PARTICIPANT;PARTSTAT=ACCEPTED;RSVP=TRUE;CN="Elaine F
 letcher":http://goldenlaneestate.org/profile/ElaineFletcher
END:VEVENT
END:VCALENDAR
