BEGIN:VCALENDAR
PRODID:NingEventWidget-v1
VERSION:2.0
METHOD:PUBLISH
BEGIN:VEVENT
UID:2323372:Event:44796
DTSTAMP:20260419T224003Z
SUMMARY:Monthly City Carers Support Group Meeting
DESCRIPTION:Invitation To Unpaid, Informal City Carers\n\nThe next mee
 ting will be on: Tuesday 14th April 2015\n\nEllie Ward from the City o
 f London will attend to discuss the Care Act 2014. \nWhat does the Ca
 re Act mean for informal, unpaid carers?\n\nThe Care Act strengthens t
 he rights and recognition of carers.\n\nImproved access to information
  and advocacy should make it easier for carers to access support and p
 lan for their future needs.\n\nEarly support for carers to prevent the
  need of reaching crisis point.\n\nAdults and carers have the same rig
 hts to an assessment on the appearance of needs.\n\nThe local authorit
 y must meet eligible needs of carers and prepare a support plan\n\nCar
 ers must be kept informed of the care and support plan of the person t
 hey care for.\n\nChildren and Families Act 2014\n\n\n\n\n\nFor more in
 formation visit http://goldenlaneestate.org/events/monthly-city-carers
 -support-group-meeting-4
DTSTART:20150414T100000Z
DTEND:20150414T113000Z
CATEGORIES:monthly, city, carers, support, group, meeting
LOCATION:Tudor Rose Court
WEBSITE:http://www.eldersvoice.org.uk
URL:http://www.eldersvoice.org.uk
CONTACT:020 8206 7505
ORGANIZER;CN="Elaine Fletcher":http://goldenlaneestate.org/profile/Ela
 ineFletcher
ATTACH;FMTTYPE="image/jpeg":
ATTENDEE;ROLE=REQ-PARTICIPANT;PARTSTAT=ACCEPTED;RSVP=TRUE;CN="Elaine F
 letcher":http://goldenlaneestate.org/profile/ElaineFletcher
END:VEVENT
END:VCALENDAR
